BEGIN:VCALENDAR
VERSION:2.0
METHOD:PUBLISH
PRODID:-//PYVOBJECT//NONSGML Version 1//EN
BEGIN:VTIMEZONE
TZID:EET
BEGIN:STANDARD
DTSTART:20001029T050000
RRULE:FREQ=YEARLY;BYDAY=-1SU;BYMONTH=10
TZNAME:EET
TZOFFSETFROM:+0300
TZOFFSETTO:+0200
END:STANDARD
BEGIN:DAYLIGHT
DTSTART:20000326T030000
RRULE:FREQ=YEARLY;BYDAY=-1SU;BYMONTH=3
TZNAME:EEST
TZOFFSETFROM:+0200
TZOFFSETTO:+0300
END:DAYLIGHT
END:VTIMEZONE
BEGIN:VEVENT
UID:20260419T120653Z - 99070@s10.wservices.ch
DTSTART;TZID=EET:20150417T191500
CATEGORIES:Sports,Jalkapallo
LOCATION:Kupittaa 5 KHT
SUMMARY:KuuLa - AFC Campus - (Kesä 2015)
END:VEVENT
BEGIN:VEVENT
UID:20260419T120653Z - 12130@s10.wservices.ch
DTSTART;TZID=EET:20150426T184500
CATEGORIES:Sports,Jalkapallo
LOCATION:Salo KHT
SUMMARY:FC Halikko - KuuLa - (Kesä 2015)
END:VEVENT
BEGIN:VEVENT
UID:20260419T120653Z - 78640@s10.wservices.ch
DTSTART;TZID=EET:20150503T160000
CATEGORIES:Sports,Jalkapallo
LOCATION:Parkki KHT
SUMMARY:KuuLa - MynPa - (Kesä 2015)
END:VEVENT
BEGIN:VEVENT
UID:20260419T120653Z - 56919@s10.wservices.ch
DTSTART;TZID=EET:20150508T193000
CATEGORIES:Sports,Jalkapallo
LOCATION:Raisio Kerttula KHT
SUMMARY:RaiFu - KuuLa - (Kesä 2015)
END:VEVENT
BEGIN:VEVENT
UID:20260419T120653Z - 847@s10.wservices.ch
DTSTART;TZID=EET:20150515T192000
CATEGORIES:Sports,Jalkapallo
LOCATION:Kupittaa 5 KHT
SUMMARY:KuuLa - PiPS - (Kesä 2015)
END:VEVENT
BEGIN:VEVENT
UID:20260419T120653Z - 72943@s10.wservices.ch
DTSTART;TZID=EET:20150527T190000
CATEGORIES:Sports,Jalkapallo
LOCATION:Naantali Kuparivuori
SUMMARY:VG-62 2 - KuuLa - (Kesä 2015)
END:VEVENT
BEGIN:VEVENT
UID:20260419T120653Z - 62887@s10.wservices.ch
DTSTART;TZID=EET:20150604T191500
CATEGORIES:Sports,Jalkapallo
LOCATION:Kupittaa 5 KHT
SUMMARY:KuuLa - AC Sauvo - (Kesä 2015)
END:VEVENT
BEGIN:VEVENT
UID:20260419T120653Z - 38885@s10.wservices.ch
DTSTART;TZID=EET:20150615T200000
CATEGORIES:Sports,Jalkapallo
LOCATION:Parkki KHT
SUMMARY:KuuLa - KaaPS - (Kesä 2015)
END:VEVENT
BEGIN:VEVENT
UID:20260419T120653Z - 7884@s10.wservices.ch
DTSTART;TZID=EET:20150626T191500
CATEGORIES:Sports,Jalkapallo
LOCATION:Yläkenttä KHT
SUMMARY:TuTo - KuuLa - (Kesä 2015)
END:VEVENT
BEGIN:VEVENT
UID:20260419T120653Z - 66131@s10.wservices.ch
DTSTART;TZID=EET:20150728T190000
CATEGORIES:Sports,Jalkapallo
LOCATION:Parkki KHT
SUMMARY:KuuLa - FC Halikko - (Kesä 2015)
END:VEVENT
BEGIN:VEVENT
UID:20260419T120653Z - 37848@s10.wservices.ch
DTSTART;TZID=EET:20150802T190000
CATEGORIES:Sports,Jalkapallo
LOCATION:Parkki KHT
SUMMARY:KY-Sport - KuuLa - (Kesä 2015)
END:VEVENT
BEGIN:VEVENT
UID:20260419T120653Z - 58269@s10.wservices.ch
DTSTART;TZID=EET:20150805T193000
CATEGORIES:Sports,Jalkapallo
LOCATION:Mynämäki Urheilukeskus
SUMMARY:MynPa - KuuLa - (Kesä 2015)
END:VEVENT
BEGIN:VEVENT
UID:20260419T120653Z - 41804@s10.wservices.ch
DTSTART;TZID=EET:20150816T160000
CATEGORIES:Sports,Jalkapallo
LOCATION:Kupittaa 2 KHT
SUMMARY:KuuLa - RaiFu - (Kesä 2015)
END:VEVENT
BEGIN:VEVENT
UID:20260419T120653Z - 74982@s10.wservices.ch
DTSTART;TZID=EET:20150821T183000
CATEGORIES:Sports,Jalkapallo
LOCATION:Piikkiö OVEX-Areena KHT
SUMMARY:PiPS - KuuLa - (Kesä 2015)
END:VEVENT
BEGIN:VEVENT
UID:20260419T120653Z - 48868@s10.wservices.ch
DTSTART;TZID=EET:20150828T191500
CATEGORIES:Sports,Jalkapallo
LOCATION:Kupittaa 5 KHT
SUMMARY:KuuLa - KY-Sport - (Kesä 2015)
END:VEVENT
BEGIN:VEVENT
UID:20260419T120653Z - 31060@s10.wservices.ch
DTSTART;TZID=EET:20150831T191500
CATEGORIES:Sports,Jalkapallo
LOCATION:Parkki KHT
SUMMARY:AFC Campus - KuuLa - (Kesä 2015)
END:VEVENT
BEGIN:VEVENT
UID:20260419T120653Z - 78204@s10.wservices.ch
DTSTART;TZID=EET:20150904T191500
CATEGORIES:Sports,Jalkapallo
LOCATION:Kupittaa 5 KHT
SUMMARY:KuuLa - VG-62 2 - (Kesä 2015)
END:VEVENT
BEGIN:VEVENT
UID:20260419T120653Z - 7418@s10.wservices.ch
DTSTART;TZID=EET:20150911T190000
CATEGORIES:Sports,Jalkapallo
LOCATION:Sauvo OP-Hakkispaana KHT
SUMMARY:AC Sauvo - KuuLa - (Kesä 2015)
END:VEVENT
BEGIN:VEVENT
UID:20260419T120653Z - 88970@s10.wservices.ch
DTSTART;TZID=EET:20150915T180000
CATEGORIES:Sports,Jalkapallo
LOCATION:Raisio Kerttula nurmi
SUMMARY:Ryhti - KuuLa - (Kesä 2015)
END:VEVENT
BEGIN:VEVENT
UID:20260419T120653Z - 5900@s10.wservices.ch
DTSTART;TZID=EET:20150918T191500
CATEGORIES:Sports,Jalkapallo
LOCATION:Kupittaa 5 KHT
SUMMARY:KuuLa - Ryhti - (Kesä 2015)
END:VEVENT
BEGIN:VEVENT
UID:20260419T120653Z - 16318@s10.wservices.ch
DTSTART;TZID=EET:20150924T200000
CATEGORIES:Sports,Jalkapallo
LOCATION:Kaarina KHT
SUMMARY:KaaPS - KuuLa - (Kesä 2015)
END:VEVENT
BEGIN:VEVENT
UID:20260419T120653Z - 74570@s10.wservices.ch
DTSTART;TZID=EET:20151004T150000
CATEGORIES:Sports,Jalkapallo
LOCATION:Kupittaa 5 KHT
SUMMARY:KuuLa - TuTo - (Kesä 2015)
END:VEVENT
X-WR-CALNAME:Vitonen lohko 2
X-WR-TIMEZONE:Europe/Helsinki
END:VCALENDAR
